BEGIN:VCALENDAR
VERSION:2.0
PRODID:-//eventon.com NONSGML v1.0//EN
BEGIN:VEVENT
UID:69e7563cb4897
DTSTAMP:20260421T124932
DTSTART:20161210T173000Z
DTEND:20161210T215900Z
LOCATION:5505 Mühlbach am Hochkönig Mühlbach am Hochkönig 237
SUMMARY:Christa Fartek Weihnachtskonzert "Licht in der Nacht"
DESCRIPTION: 
END:VEVENT
END:VCALENDAR