BEGIN:VCALENDAR
VERSION:2.0
PRODID:-//eventon.com NONSGML v1.0//EN
BEGIN:VEVENT
UID:69e707e700d40
DTSTAMP:20260421T071519
DTSTART:20170914T170000Z
DTEND:20170914T183000Z
LOCATION:
SUMMARY:2017 / Christa Fartek Auftritt bei der Lesung der Vulkanlanddichtergilde im Gemeindesaal in Bad Gleichenberg.
DESCRIPTION: Die Künstlerin unterstützt das Projekt Lesung der < Vulkanland Dichtergilde > mit einem Auftritt im Gemeindesaal in Bad Gleichenberg. Nähere INFOS dazu in Kürze...
END:VEVENT
END:VCALENDAR