BEGIN:VCALENDAR
VERSION:2.0
PRODID:-//eventon.com NONSGML v1.0//EN
BEGIN:VEVENT
UID:69e5faae4ead8
DTSTAMP:20260420T120638
DTSTART:20170609T220000Z
DTEND:20170609T220000Z
LOCATION:
SUMMARY:2017 / Christa Fartek VIP - Christa Fartek - Don´t give up - ALBUM PRÄSENTATION im Tamdhu in Oberwart / BGLD
DESCRIPTION:   https://www.tamdhu.at Adresse: Wienerstraße 51\,  7400 Oberwart Telefon: 0664 5261938  
END:VEVENT
END:VCALENDAR