BEGIN:VCALENDAR
VERSION:2.0
PRODID:-//eventon.com NONSGML v1.0//EN
BEGIN:VEVENT
UID:69e77595b936d
DTSTAMP:20260421T150317
DTSTART:20180817T220000Z
DTEND:20180817T220000Z
LOCATION:
SUMMARY:2018 / Hochzeit auf Burg Schlaining
DESCRIPTION: 2018 / Hochzeit auf Burg Schlaining
END:VEVENT
END:VCALENDAR