BEGIN:VCALENDAR
VERSION:2.0
PRODID:-//eventon.com NONSGML v1.0//EN
BEGIN:VEVENT
UID:69e88c6d405d0
DTSTAMP:20260422T105301
DTSTART:20171110T170000Z
DTEND:20171110T190000Z
LOCATION:
SUMMARY:2017 / Privatveranstaltung KL.
DESCRIPTION: 2017 / Privatveranstaltung KL.
END:VEVENT
END:VCALENDAR