BEGIN:VCALENDAR
VERSION:2.0
PRODID:-//eventon.com NONSGML v1.0//EN
BEGIN:VEVENT
UID:69e5fa3473ad9
DTSTAMP:20260420T120436
DTSTART:20171209T120000Z
DTEND:20171209T150000Z
LOCATION:
SUMMARY:2017 / Christa Fartek Weihnachtsshow im EUROMARKT in 8605 Kapfenberg
DESCRIPTION: EKZ Kapfenberg Wiener Straße 35a 8605 Kapfenberg
END:VEVENT
END:VCALENDAR