BEGIN:VCALENDAR
VERSION:2.0
PRODID:-//eventon.com NONSGML v1.0//EN
BEGIN:VEVENT
UID:69e9db9b15ff5
DTSTAMP:20260423T104307
DTSTART:20171008T090000Z
DTEND:20171008T100000Z
LOCATION:
SUMMARY:ORF- BURGENLAND FRÜHSCHOPPEN mit Christa Fartek LIVE- Übertragung beim 20. Gewerbefachmarkt HAGEBAU Niederer in 8380 Jennersdorf
DESCRIPTION: 
END:VEVENT
END:VCALENDAR