BEGIN:VCALENDAR
VERSION:2.0
PRODID:-//eventon.com NONSGML v1.0//EN
BEGIN:VEVENT
UID:69e75709b3822
DTSTAMP:20260421T125257
DTSTART:20180405T220000Z
DTEND:20180405T220000Z
LOCATION:
SUMMARY:2018 / TV Aufzeichnung Barabara Karlich Show ORF 2
DESCRIPTION: Der Sendetermin wird in Kürze bekannt gegeben!
END:VEVENT
END:VCALENDAR