BEGIN:VCALENDAR
VERSION:2.0
PRODID:-//eventon.com NONSGML v1.0//EN
BEGIN:VEVENT
UID:69e619f17f3c1
DTSTAMP:20260420T142001
DTSTART:20180727T220000Z
DTEND:20180727T220000Z
LOCATION:
SUMMARY:2018 / Privatfeier
DESCRIPTION: 2018 / Privatfeier
END:VEVENT
END:VCALENDAR