BEGIN:VCALENDAR
VERSION:2.0
PRODID:-//eventon.com NONSGML v1.0//EN
BEGIN:VEVENT
UID:69e7089f2d951
DTSTAMP:20260421T071823
DTSTART:20180901T150000Z
DTEND:20180901T170000Z
LOCATION:
SUMMARY:2019 / Privatveranstaltung
DESCRIPTION: 2019 / Privatveranstaltung
END:VEVENT
END:VCALENDAR