BEGIN:VCALENDAR
VERSION:2.0
PRODID:-//eventon.com NONSGML v1.0//EN
BEGIN:VEVENT
UID:69e5fcc751ef5
DTSTAMP:20260420T121535
DTSTART:20181026T190000Z
DTEND:20181025T230000Z
LOCATION:
SUMMARY:2018 / Schlager trifft Country Christa Fartek & Band im METROPOL / WIES
DESCRIPTION: Schlager trifft Country im METROPOL in WIES am 26.10.2018 Beginn ab 21 Uhr Eintritt: Vorkasse: 7.- Euro / Abendkasse 10 Euro Christa Fartek & Band Gastauftritt: Robert F. Hannes Lanz Aichberger Heli & Franky
END:VEVENT
END:VCALENDAR