BEGIN:VCALENDAR
VERSION:2.0
PRODID:-//eventon.com NONSGML v1.0//EN
BEGIN:VEVENT
UID:69e756c87d4ca
DTSTAMP:20260421T125152
DTSTART:20200509T173000Z
DTEND:20200509T203000Z
LOCATION:
SUMMARY:2020 / Tanzabend an der Hotelbar im Kurhaus Bad Gleichenberg / ABGESAGT!
DESCRIPTION: 2020 / Tanzabend an der Hotelbar im Kurhaus Bad Gleichenberg / ABGESAGT!
END:VEVENT
END:VCALENDAR