BEGIN:VCALENDAR
VERSION:2.0
PRODID:-//eventon.com NONSGML v1.0//EN
BEGIN:VEVENT
UID:69e757206b978
DTSTAMP:20260421T125320
DTSTART:20200201T183000Z
DTEND:20200131T220000Z
LOCATION:
SUMMARY:Christa Fartek & Robert F. beim Hausball beim Gh. Sorger in Stainach / Bürgg
DESCRIPTION: Christa Fartek & Robert F. beim Hausball beim Gh. Sorger in Stainach / Bürgg
END:VEVENT
END:VCALENDAR