BEGIN:VCALENDAR
VERSION:2.0
PRODID:-//eventon.com NONSGML v1.0//EN
BEGIN:VEVENT
UID:69e8a4b9e0b19
DTSTAMP:20260422T123641
DTSTART:20210723T170000Z
DTEND:20210722T230000Z
LOCATION:
SUMMARY:2021 / 1. Country Fest im Freibad St. Stefan i. R.
DESCRIPTION: 
END:VEVENT
END:VCALENDAR