BEGIN:VCALENDAR
VERSION:2.0
PRODID:-//eventon.com NONSGML v1.0//EN
BEGIN:VEVENT
UID:69e4e8a9913d1
DTSTAMP:20260419T163729
DTSTART:20220511T203000Z
DTEND:20220511T213000Z
LOCATION:
SUMMARY:2022 / BEST OF SCHLAGER- CHRISTA FARTEK - LIVE IM SCHIWAGO
DESCRIPTION: Änderung vorbehalten!
END:VEVENT
END:VCALENDAR