BEGIN:VCALENDAR
VERSION:2.0
PRODID:-//eventon.com NONSGML v1.0//EN
BEGIN:VEVENT
UID:69e75663dc363
DTSTAMP:20260421T125011
DTSTART:20230526T220000Z
DTEND:20230526T220000Z
LOCATION:
SUMMARY:2023 / Trauung und Hochzeit- Kirche St. Oswald
DESCRIPTION: Abendmusik mit Duo Amor Showauftritt: Christa Fartek\,  Hannes Lanz u. Robert F. &nbsp;
END:VEVENT
END:VCALENDAR