BEGIN:VCALENDAR
VERSION:2.0
PRODID:-//eventon.com NONSGML v1.0//EN
BEGIN:VEVENT
UID:69e757766a068
DTSTAMP:20260421T125446
DTSTART:20230514T100000Z
DTEND:20230514T160000Z
LOCATION:
SUMMARY:Muttertagsgala Christa Fartek
DESCRIPTION: &nbsp; &nbsp; Karten erhältlich beim Lipizzaner Franzl oder eine E- Mail an christa-fartek@aon.at
END:VEVENT
END:VCALENDAR