BEGIN:VCALENDAR
VERSION:2.0
PRODID:-//eventon.com NONSGML v1.0//EN
BEGIN:VEVENT
UID:69e7570ec8003
DTSTAMP:20260421T125302
DTSTART:20230610T150000Z
DTEND:20230610T000000Z
LOCATION:
SUMMARY:2023 / Rock und Countrymusik beim Trucker Camp
DESCRIPTION: 
END:VEVENT
END:VCALENDAR