BEGIN:VCALENDAR
VERSION:2.0
PRODID:-//eventon.com NONSGML v1.0//EN
BEGIN:VEVENT
UID:69e7570fc4e35
DTSTAMP:20260421T125303
DTSTART:20231125T150000Z
DTEND:20231125T213000Z
LOCATION:
SUMMARY:2023 / Christa Fartek Weihnachtskonzert beim Lipizzaner Franzl\,  Heiligenkreuz a. W.
DESCRIPTION: Christa Fartek & Robert F. Vorverkauf unter christa-fartek@aon.at
END:VEVENT
END:VCALENDAR