BEGIN:VCALENDAR
VERSION:2.0
PRODID:-//eventon.com NONSGML v1.0//EN
BEGIN:VEVENT
UID:69e756abcec43
DTSTAMP:20260421T125123
DTSTART:20230720T220000Z
DTEND:20230720T220000Z
LOCATION:
SUMMARY:2023 / Privatveranstaltung Agentur
DESCRIPTION: 2023 / Privatveranstaltung Agentur
END:VEVENT
END:VCALENDAR