BEGIN:VCALENDAR
VERSION:2.0
PRODID:-//eventon.com NONSGML v1.0//EN
BEGIN:VEVENT
UID:69e7564b32e9e
DTSTAMP:20260421T124947
DTSTART:20230901T220000Z
DTEND:20230901T220000Z
LOCATION:
SUMMARY:2023 / Firmenfeier
DESCRIPTION: 2023 / Firmenfeier
END:VEVENT
END:VCALENDAR