BEGIN:VCALENDAR
VERSION:2.0
PRODID:-//eventon.com NONSGML v1.0//EN
BEGIN:VEVENT
UID:69e756bf26921
DTSTAMP:20260421T125143
DTSTART:20230617T163000Z
DTEND:20230617T200000Z
LOCATION:
SUMMARY:2023 / Country und Schlagermusik mit Christa Fartek Family Trio im Bicycle in Heimschuh
DESCRIPTION: 
END:VEVENT
END:VCALENDAR