BEGIN:VCALENDAR
VERSION:2.0
PRODID:-//eventon.com NONSGML v1.0//EN
BEGIN:VEVENT
UID:69e756651c5fb
DTSTAMP:20260421T125013
DTSTART:20230815T123000Z
DTEND:20230815T150000Z
LOCATION:
SUMMARY:2023 / Westerngrill beim Bacherlwirt
DESCRIPTION: 2023 / Westerngrill beim Bacherlwirt
END:VEVENT
END:VCALENDAR