BEGIN:VCALENDAR
VERSION:2.0
PRODID:-//eventon.com NONSGML v1.0//EN
BEGIN:VEVENT
UID:69e7578070aa1
DTSTAMP:20260421T125456
DTSTART:20230729T152000Z
DTEND:20230729T163000Z
LOCATION:
SUMMARY:2023 / Christa Fartek Country Music beim Internationalen Lederhosenfest in Windischgarten (Hauptbühne)
DESCRIPTION: Christa Fartek Country Musik
END:VEVENT
END:VCALENDAR