BEGIN:VCALENDAR
VERSION:2.0
PRODID:-//eventon.com NONSGML v1.0//EN
BEGIN:VEVENT
UID:69e7564b303b2
DTSTAMP:20260421T124947
DTSTART:20231201T220000Z
DTEND:20231201T220000Z
LOCATION:
SUMMARY:2023 / Privatfeier
DESCRIPTION: 2023 / Privatfeier
END:VEVENT
END:VCALENDAR