BEGIN:VCALENDAR
VERSION:2.0
PRODID:-//eventon.com NONSGML v1.0//EN
BEGIN:VEVENT
UID:69e7563ddccb2
DTSTAMP:20260421T124933
DTSTART:20230701T080000Z
DTEND:20230701T130000Z
LOCATION:
SUMMARY:Sommerfest mit Christa Fartek Family Trio in Wetzelsdorfberg
DESCRIPTION: 
END:VEVENT
END:VCALENDAR