BEGIN:VCALENDAR
VERSION:2.0
PRODID:-//eventon.com NONSGML v1.0//EN
BEGIN:VEVENT
UID:69e7563e78da8
DTSTAMP:20260421T124934
DTSTART:20230524T135700Z
DTEND:20230524T135700Z
LOCATION:
SUMMARY:2024 / Musikreise
DESCRIPTION: 2024 / Musikreise
END:VEVENT
END:VCALENDAR