BEGIN:VCALENDAR
VERSION:2.0
PRODID:-//eventon.com NONSGML v1.0//EN
BEGIN:VEVENT
UID:69e756ac430af
DTSTAMP:20260421T125124
DTSTART:20230805T090000Z
DTEND:20230805T140000Z
LOCATION:
SUMMARY:2023 / Christa Fartek Family / Country\,  Schlager & Evergreens / LINEDANCE - SHOW / Neueröffnung Sulm Stüberl in Gasselsdorf 22
DESCRIPTION: 2023 / Christa Fartek Family / Country\,  Schlager & Evergreens / LINEDANCE - SHOW / Neueröffnung Sulm Stüberl in Gasselsdorf 22
END:VEVENT
END:VCALENDAR