BEGIN:VCALENDAR
VERSION:2.0
PRODID:-//eventon.com NONSGML v1.0//EN
BEGIN:VEVENT
UID:69e755a7f3dea
DTSTAMP:20260421T124703
DTSTART:20230811T200000Z
DTEND:20230811T210000Z
LOCATION:
SUMMARY:2023 / Single Präsentation - Diese Nacht /  Christa Fartek & Robert F. / Tanzbar Schiwago in Dobl bei Graz
DESCRIPTION: 
END:VEVENT
END:VCALENDAR