BEGIN:VCALENDAR
VERSION:2.0
PRODID:-//eventon.com NONSGML v1.0//EN
BEGIN:VEVENT
UID:69e756c7ccf77
DTSTAMP:20260421T125151
DTSTART:20230825T163000Z
DTEND:20230825T210000Z
LOCATION:
SUMMARY:2023 / Christa Fartek beim Rotary Golfturnier Klöch
DESCRIPTION: 2023 / Christa Fartek beim Rotary Golfturnier Klöch
END:VEVENT
END:VCALENDAR