BEGIN:VCALENDAR
VERSION:2.0
PRODID:-//eventon.com NONSGML v1.0//EN
BEGIN:VEVENT
UID:69e7564c988ce
DTSTAMP:20260421T124948
DTSTART:20240608T143000Z
DTEND:20240607T230000Z
LOCATION:
SUMMARY:2024 / Country\,  Schlager\,  Linedance beim Trucker Camp beim Lipizzaner Franzl in Heiligenkreuz a W.
DESCRIPTION: Christa Fartek Family u.a.
END:VEVENT
END:VCALENDAR