BEGIN:VCALENDAR
VERSION:2.0
PRODID:-//eventon.com NONSGML v1.0//EN
BEGIN:VEVENT
UID:69e7575fac8e3
DTSTAMP:20260421T125423
DTSTART:20231221T140000Z
DTEND:20231221T160000Z
LOCATION:
SUMMARY:2023 / Weihnachtsfeier Klinikum / Geschlossene Veranstaltung
DESCRIPTION: 2023 / Weihnachtsfeier Klinikum / Geschlossene Veranstaltung
END:VEVENT
END:VCALENDAR