BEGIN:VCALENDAR
VERSION:2.0
PRODID:-//eventon.com NONSGML v1.0//EN
BEGIN:VEVENT
UID:69e756631ee2a
DTSTAMP:20260421T125011
DTSTART:20230718T163000Z
DTEND:20230718T200000Z
LOCATION:
SUMMARY:2023 / Klinikum Bad Gleichenberg
DESCRIPTION: 2023 / Klinikum Bad Gleichenberg
END:VEVENT
END:VCALENDAR