BEGIN:VCALENDAR
VERSION:2.0
PRODID:-//eventon.com NONSGML v1.0//EN
BEGIN:VEVENT
UID:69e756c70b429
DTSTAMP:20260421T125151
DTSTART:20230818T163000Z
DTEND:20230818T200000Z
LOCATION:
SUMMARY:2023 / Gottschling\,  VILLACH
DESCRIPTION: 
END:VEVENT
END:VCALENDAR