BEGIN:VCALENDAR
VERSION:2.0
PRODID:-//eventon.com NONSGML v1.0//EN
BEGIN:VEVENT
UID:69e755fee46a8
DTSTAMP:20260421T124830
DTSTART:20230922T160000Z
DTEND:20230922T193000Z
LOCATION:
SUMMARY:2023 / Klinikum
DESCRIPTION: 2023 / Klinikum
END:VEVENT
END:VCALENDAR