BEGIN:VCALENDAR
VERSION:2.0
PRODID:-//eventon.com NONSGML v1.0//EN
BEGIN:VEVENT
UID:69e7570a85496
DTSTAMP:20260421T125258
DTSTART:20230707T163000Z
DTEND:20230707T200000Z
LOCATION:
SUMMARY:2023 / Klinikum
DESCRIPTION: 2023 / Klinikum
END:VEVENT
END:VCALENDAR