BEGIN:VCALENDAR
VERSION:2.0
PRODID:-//eventon.com NONSGML v1.0//EN
BEGIN:VEVENT
UID:69e756bd8144c
DTSTAMP:20260421T125141
DTSTART:20230924T140000Z
DTEND:20230924T190000Z
LOCATION:
SUMMARY:2023 / Christa Fartek beim Jess Robin Jubiläumskonzert
DESCRIPTION: Eintritt: 25.-
END:VEVENT
END:VCALENDAR