BEGIN:VCALENDAR
VERSION:2.0
PRODID:-//eventon.com NONSGML v1.0//EN
BEGIN:VEVENT
UID:69e7570d17df0
DTSTAMP:20260421T125301
DTSTART:20230916T170000Z
DTEND:20230916T200000Z
LOCATION:
SUMMARY:2023 / SV Rottenmann
DESCRIPTION: 2023 / SV Rottenmann
END:VEVENT
END:VCALENDAR