BEGIN:VCALENDAR
VERSION:2.0
PRODID:-//eventon.com NONSGML v1.0//EN
BEGIN:VEVENT
UID:69e755fd76b47
DTSTAMP:20260421T124829
DTSTART:20230910T120000Z
DTEND:20230910T150000Z
LOCATION:
SUMMARY:2023 / SV Radochen
DESCRIPTION: 2023 / SV Radochen
END:VEVENT
END:VCALENDAR