BEGIN:VCALENDAR
VERSION:2.0
PRODID:-//eventon.com NONSGML v1.0//EN
BEGIN:VEVENT
UID:69e7558cb9a39
DTSTAMP:20260421T124636
DTSTART:20231007T160000Z
DTEND:20231007T200000Z
LOCATION:
SUMMARY:2023 / Schlager & Country Musik / Märzenstüberl in Graz\,  Der Auftritt für Christa Fartek wird leider krankheitsbedingt abgesagt! Hannes Lanz\,  Robert F. und Alois Fartek vertreten die Künstlerin.
DESCRIPTION: Christa Fartek\,  Hannes Lanz und Robert F.
END:VEVENT
END:VCALENDAR