BEGIN:VCALENDAR
VERSION:2.0
PRODID:-//eventon.com NONSGML v1.0//EN
BEGIN:VEVENT
UID:69e7572016389
DTSTAMP:20260421T125320
DTSTART:20230901T163000Z
DTEND:20230901T193000Z
LOCATION:
SUMMARY:2023 / Klinikum
DESCRIPTION: 2023 / Klinikum
END:VEVENT
END:VCALENDAR