BEGIN:VCALENDAR
VERSION:2.0
PRODID:-//eventon.com NONSGML v1.0//EN
BEGIN:VEVENT
UID:69e756ad4e243
DTSTAMP:20260421T125125
DTSTART:20230930T070000Z
DTEND:20230930T140000Z
LOCATION:
SUMMARY:Stadtgeflüster im Cafe Jörg Wolf in Feldbach Gastauftritt von Robert F.
DESCRIPTION: 
END:VEVENT
END:VCALENDAR