BEGIN:VCALENDAR
VERSION:2.0
PRODID:-//eventon.com NONSGML v1.0//EN
BEGIN:VEVENT
UID:69e7575fc6cb8
DTSTAMP:20260421T125423
DTSTART:20231014T123000Z
DTEND:20231014T160000Z
LOCATION:
SUMMARY:Firmenfeier privat
DESCRIPTION: Firmenfeier privat
END:VEVENT
END:VCALENDAR