BEGIN:VCALENDAR
VERSION:2.0
PRODID:-//eventon.com NONSGML v1.0//EN
BEGIN:VEVENT
UID:69e72a86f2358
DTSTAMP:20260421T094302
DTSTART:20240430T220000Z
DTEND:20240504T220000Z
LOCATION:
SUMMARY:2024 / Musikreise nach VRSAR / CROATIA mit Daniela Alfinito\,  Oliver Haidt\,  Daniel Düsenflitz u.a.
DESCRIPTION: 
END:VEVENT
END:VCALENDAR