BEGIN:VCALENDAR
VERSION:2.0
PRODID:-//eventon.com NONSGML v1.0//EN
BEGIN:VEVENT
UID:69e757613f7ff
DTSTAMP:20260421T125425
DTSTART:20231006T170000Z
DTEND:20231006T200000Z
LOCATION:
SUMMARY:2023 / Cafe Pup Krainer in Wies / Der Auftritt für Christa Fartek wird leider krankheitsbedingt abgesagt! Robert F. und Hannes Lanz vertreten die Künstlerin.
DESCRIPTION: 
END:VEVENT
END:VCALENDAR