BEGIN:VCALENDAR
VERSION:2.0
PRODID:-//eventon.com NONSGML v1.0//EN
BEGIN:VEVENT
UID:69e755a988eb2
DTSTAMP:20260421T124705
DTSTART:20231206T170000Z
DTEND:20231206T200000Z
LOCATION:
SUMMARY:2023 / Advent mit der Vulkanland Dichtergilde & Christa Fartek
DESCRIPTION: Gemeindesaal in 8330 Gniebing Eintritt freie Spende!
END:VEVENT
END:VCALENDAR