BEGIN:VCALENDAR
VERSION:2.0
PRODID:-//eventon.com NONSGML v1.0//EN
BEGIN:VEVENT
UID:69e7558cbdf7f
DTSTAMP:20260421T124636
DTSTART:20231026T160000Z
DTEND:20231026T190000Z
LOCATION:
SUMMARY:2023 / Klinikum
DESCRIPTION: christa Fartek & Robert F.
END:VEVENT
END:VCALENDAR