BEGIN:VCALENDAR
VERSION:2.0
PRODID:-//eventon.com NONSGML v1.0//EN
BEGIN:VEVENT
UID:69e7571fb5eee
DTSTAMP:20260421T125319
DTSTART:20231116T160000Z
DTEND:20231116T190000Z
LOCATION:
SUMMARY:2023 / Klinikum
DESCRIPTION: Christa Fartek & Robert F.
END:VEVENT
END:VCALENDAR