BEGIN:VCALENDAR
VERSION:2.0
PRODID:-//eventon.com NONSGML v1.0//EN
BEGIN:VEVENT
UID:69e755f3348d9
DTSTAMP:20260421T124819
DTSTART:20240110T160000Z
DTEND:20240110T190000Z
LOCATION:
SUMMARY:2024 / Klinikum Bad Gleichenberg
DESCRIPTION: Christa Fartek & Robert F.
END:VEVENT
END:VCALENDAR