BEGIN:VCALENDAR
VERSION:2.0
PRODID:-//eventon.com NONSGML v1.0//EN
BEGIN:VEVENT
UID:69e7558eec9b8
DTSTAMP:20260421T124638
DTSTART:20240201T160000Z
DTEND:20240201T190000Z
LOCATION:
SUMMARY:2024 / Klinikum Bad Gleichenberg
DESCRIPTION: Christa Fartek & Robert F.
END:VEVENT
END:VCALENDAR